BEGIN:VCALENDAR
VERSION:2.0
PRODID:-//Library Market//iCal Export//EN
BEGIN:VEVENT
SUMMARY:Summertime Series: Happy Faces
UID:3822
DTSTAMP:20260424T022400Z
DTSTART:20260610T160000Z
DTEND:20260610T170000Z
LOCATION:408 N. 2nd Ave., Mulvane, KS 67110, United States
ROOM: Multipurpose Room
DESCRIPTION:Summertime Series:May 27: Dino O&#039;Dell - MusicianJune 3: C
 hris Conner - Magic &amp; Balloon TwistingJune 10: Happy Faces - Dino Game
 sJune 17: Handpan Dan - MusicianJune 24: Great Plains Nature CenterJuly 1:
  Water Party with Mulvane Fire Rescue *11am only*July 8: Karen Land - Dog 
 Musher
URL:https://www.mulvanelibrary.org/event/summertime-series-3822
END:VEVENT
END:VCALENDAR
