BEGIN:VCALENDAR
VERSION:2.0
PRODID:-//Library Market//iCal Export//EN
BEGIN:VEVENT
SUMMARY:Summer Storytime
UID:3831
DTSTAMP:20260424T022500Z
DTSTART:20260623T153000Z
DTEND:20260623T160000Z
LOCATION:408 N. 2nd Ave., Mulvane, KS 67110, United States
ROOM: Multipurpose Room
DESCRIPTION:
URL:https://www.mulvanelibrary.org/event/summer-storytime-3831
END:VEVENT
END:VCALENDAR
