BEGIN:VCALENDAR
VERSION:2.0
PRODID:-//Library Market//iCal Export//EN
BEGIN:VEVENT
SUMMARY:Summer Discover and Play
UID:3836
DTSTAMP:20260424T023400Z
DTSTART:20260602T160000Z
DTEND:20260602T170000Z
LOCATION:408 N. 2nd Ave., Mulvane, KS 67110, United States
ROOM: Multipurpose Room
DESCRIPTION:
URL:https://www.mulvanelibrary.org/event/summer-discover-and-play-3836
END:VEVENT
END:VCALENDAR
