BEGIN:VCALENDAR
VERSION:2.0
PRODID:-//Library Market//iCal Export//EN
BEGIN:VEVENT
SUMMARY:Kid Zone
UID:3846
DTSTAMP:20260424T040300Z
DTSTART:20260625T160000Z
DTEND:20260625T170000Z
LOCATION:408 N. 2nd Ave., Mulvane, KS 67110, United States
ROOM: Multipurpose Room
DESCRIPTION:
URL:https://www.mulvanelibrary.org/event/kid-zone-3846
END:VEVENT
END:VCALENDAR
