BEGIN:VCALENDAR
VERSION:2.0
PRODID:-//Library Market//iCal Export//EN
BEGIN:VEVENT
SUMMARY:Paws &amp; Read
UID:3859
DTSTAMP:20260424T054800Z
DTSTART:20260701T153000Z
DTEND:20260701T163000Z
LOCATION:408 N. 2nd Ave., Mulvane, KS 67110, United States
ROOM: Youth Area
DESCRIPTION:
URL:https://www.mulvanelibrary.org/event/paws-read-3859
END:VEVENT
END:VCALENDAR
