BEGIN:VCALENDAR
VERSION:2.0
PRODID:-//Library Market//iCal Export//EN
BEGIN:VEVENT
SUMMARY:Wee Reads Storytime
UID:3864
DTSTAMP:20260424T022300Z
DTSTART:20260619T153000Z
DTEND:20260619T160000Z
LOCATION:408 N. 2nd Ave., Mulvane, KS 67110, United States
ROOM: Multipurpose Room
DESCRIPTION:
URL:https://www.mulvanelibrary.org/event/wee-reads-storytime-3864
END:VEVENT
END:VCALENDAR
