BEGIN:VCALENDAR
VERSION:2.0
PRODID:-//Library Market//iCal Export//EN
BEGIN:VEVENT
SUMMARY:Wee Reads Storytime
UID:3870
DTSTAMP:20260424T024500Z
DTSTART:20260612T163000Z
DTEND:20260612T170000Z
LOCATION:408 N. 2nd Ave., Mulvane, KS 67110, United States
ROOM: Multipurpose Room
DESCRIPTION:
URL:https://www.mulvanelibrary.org/event/wee-reads-storytime-3870
END:VEVENT
END:VCALENDAR
