BEGIN:VCALENDAR
VERSION:2.0
PRODID:-//Library Market//iCal Export//EN
BEGIN:VEVENT
SUMMARY:Chat &amp; Play Cafe
UID:3877
DTSTAMP:20260424T022400Z
DTSTART:20260612T160000Z
DTEND:20260612T163000Z
LOCATION:408 N. 2nd Ave., Mulvane, KS 67110, United States
ROOM: Multipurpose Room
DESCRIPTION:
URL:https://www.mulvanelibrary.org/event/chat-play-cafe-3877
END:VEVENT
END:VCALENDAR
