BEGIN:VCALENDAR
VERSION:2.0
PRODID:-//Library Market//iCal Export//EN
BEGIN:VEVENT
SUMMARY:Chat &amp; Play Cafe
UID:3878
DTSTAMP:20260424T022500Z
DTSTART:20260619T160000Z
DTEND:20260619T163000Z
LOCATION:408 N. 2nd Ave., Mulvane, KS 67110, United States
ROOM: Multipurpose Room
DESCRIPTION:
URL:https://www.mulvanelibrary.org/event/chat-play-cafe-3878
END:VEVENT
END:VCALENDAR
