BEGIN:VCALENDAR
VERSION:2.0
PRODID:-//Library Market//iCal Export//EN
BEGIN:VEVENT
SUMMARY:Chat &amp; Play Cafe
UID:3880
DTSTAMP:20260424T023500Z
DTSTART:20260703T160000Z
DTEND:20260703T163000Z
LOCATION:408 N. 2nd Ave., Mulvane, KS 67110, United States
ROOM: Multipurpose Room
DESCRIPTION:
URL:https://www.mulvanelibrary.org/event/chat-play-cafe-3880
END:VEVENT
END:VCALENDAR
